BEGIN:VCALENDAR
VERSION:2.0
PRODID:-//eventon.com NONSGML v1.0//EN
CALSCALE:GREGORIAN
METHOD:PUBLISH
BEGIN:VEVENT
UID:69e73c32e1b8c
DTSTAMP:20260421T085826Z
DTSTART:20260810T181500Z
DTEND:20260810T220000Z
LOCATION:Main hall\,  Meeting Room\,  Bar &amp; Kitchen
SUMMARY:Bingo
DESCRIPTION:\nhttps://oldhunstantonvillagehall.co.uk/events/bingo-4/
URL:https://oldhunstantonvillagehall.co.uk/events/bingo-4/
END:VEVENT
END:VCALENDAR