BEGIN:VCALENDAR
VERSION:2.0
PRODID:-//eventon.com NONSGML v1.0//EN
CALSCALE:GREGORIAN
METHOD:PUBLISH
BEGIN:VEVENT
UID:69e73dcc2a2e3
DTSTAMP:20260421T090516Z
DTSTART:20260706T090000Z
DTEND:20260706T100500Z
LOCATION:Studio Old Hunstanton Village Hall
SUMMARY:Monday Morning Yoga Flow
DESCRIPTION:\nhttps://oldhunstantonvillagehall.co.uk/events/monday-morning-
 yoga-flow-5/var/ri-13.l-L1
URL:https://oldhunstantonvillagehall.co.uk/events/monday-morning-yoga-flow-5/var/ri-13.l-L1
END:VEVENT
END:VCALENDAR