BEGIN:VCALENDAR
VERSION:2.0
PRODID:-//eventon.com NONSGML v1.0//EN
CALSCALE:GREGORIAN
METHOD:PUBLISH
BEGIN:VEVENT
UID:69e88bd4c5816
DTSTAMP:20260422T085028Z
DTSTART:20260519T084500Z
DTEND:20260519T094000Z
LOCATION:Main Hall Old Hunstanton Village Hall
SUMMARY:Kettlercise
DESCRIPTION:\nhttps://oldhunstantonvillagehall.co.uk/events/kettlercise-9/v
 ar/ri-6.l-L1
URL:https://oldhunstantonvillagehall.co.uk/events/kettlercise-9/var/ri-6.l-L1
END:VEVENT
END:VCALENDAR