BEGIN:VCALENDAR
VERSION:2.0
PRODID:-//eventon.com NONSGML v1.0//EN
CALSCALE:GREGORIAN
METHOD:PUBLISH
BEGIN:VEVENT
UID:69e88b5bb1070
DTSTAMP:20260422T084827Z
DTSTART:20260714T111500Z
DTEND:20260714T111500Z
LOCATION:Studio Old Hunstanton Village Hall
SUMMARY:Gentle Yoga
DESCRIPTION:\nhttps://oldhunstantonvillagehall.co.uk/events/gentle-yoga-5/v
 ar/ri-14.l-L1
URL:https://oldhunstantonvillagehall.co.uk/events/gentle-yoga-5/var/ri-14.l-L1
END:VEVENT
END:VCALENDAR