BEGIN:VCALENDAR
VERSION:2.0
PRODID:-//eventon.com NONSGML v1.0//EN
CALSCALE:GREGORIAN
METHOD:PUBLISH
BEGIN:VEVENT
UID:69e9daa497268
DTSTAMP:20260423T083900Z
DTSTART:20260701T090000Z
DTEND:20260701T100000Z
LOCATION:Studio Old Hunstanton Village Hall
SUMMARY:Fitness Pilates
DESCRIPTION:\nhttps://oldhunstantonvillagehall.co.uk/events/fitness-pilates
 -17/var/ri-13.l-L1
URL:https://oldhunstantonvillagehall.co.uk/events/fitness-pilates-17/var/ri-13.l-L1
END:VEVENT
END:VCALENDAR