BEGIN:VCALENDAR
VERSION:2.0
PRODID:-//eventon.com NONSGML v1.0//EN
CALSCALE:GREGORIAN
METHOD:PUBLISH
BEGIN:VEVENT
UID:69e8893d83070
DTSTAMP:20260422T083925Z
DTSTART:20260415T090000Z
DTEND:20260415T100000Z
LOCATION:Studio Old Hunstanton Village Hall
SUMMARY:Fitness Pilates
DESCRIPTION:\nhttps://oldhunstantonvillagehall.co.uk/events/fitness-pilates
 -17/var/ri-2.l-L1
URL:https://oldhunstantonvillagehall.co.uk/events/fitness-pilates-17/var/ri-2.l-L1
END:VEVENT
END:VCALENDAR